BEGIN:VCALENDAR
VERSION:2.0
PRODID:-//MX Factory Off-Road School - ECPv6.13.1//NONSGML v1.0//EN
CALSCALE:GREGORIAN
METHOD:PUBLISH
X-WR-CALNAME:MX Factory Off-Road School
X-ORIGINAL-URL:https://mxfactoryoffroadschool.co.uk
X-WR-CALDESC:Events for MX Factory Off-Road School
REFRESH-INTERVAL;VALUE=DURATION:PT1H
X-Robots-Tag:noindex
X-PUBLISHED-TTL:PT1H
BEGIN:VTIMEZONE
TZID:Europe/London
BEGIN:DAYLIGHT
TZOFFSETFROM:+0000
TZOFFSETTO:+0100
TZNAME:BST
DTSTART:20260329T010000
END:DAYLIGHT
BEGIN:STANDARD
TZOFFSETFROM:+0100
TZOFFSETTO:+0000
TZNAME:GMT
DTSTART:20261025T010000
END:STANDARD
END:VTIMEZONE
BEGIN:VEVENT
DTSTART;TZID=Europe/London:20260620T093000
DTEND;TZID=Europe/London:20260621T160000
DTSTAMP:20260425T112346
CREATED:20260424T164442Z
LAST-MODIFIED:20260424T165523Z
UID:5298-1781947800-1782057600@mxfactoryoffroadschool.co.uk
SUMMARY:Teenage and adult half day Mx experiences 20th June @MXF Henstridge
DESCRIPTION:TEENAGE & ADULT HALF DAY MX EXPERIENCES \nAM SESSION 9.45 TO 12.45 \nPM SESSION 1PM TO 4PM \nMX experiences for beginners for ages 12-16 & ADULTS  on our beginner bikes \nThis is half day beginners motocross experience for new riders / beginners a using the pop up layout not the main track. \nThis is a half day sessions for new riders or those have some motocross/motorcycle experience that want to get a taste of motocross \nThe Session is structured in the following format \n\nRiders safety briefing\nFundamentals of offroad riding\nStatic bike control training\nCompulsory basic training in open area\nBasic turning and cornering training\nLead pop up track training\nPutting everything together on the basic beginners pop up track\nFinish debrief\n\nAll Prices include bike hire \, fuel \, full MX riding kit\, protection & tuition \nYouth & Teenage bikes available  \n12-13 – Semi automatic beginner 125 IKES £1794stroke (NO CLUTCH) £179 \n13-16 Manual beginner 125 4stroke (WITH CLUTCH) £189 \n17+ Adults Manual adult beginner 250F £189 \nThis will be at our Henstridge training venue \nFor more details message Neil on 07491389898
URL:https://mxfactoryoffroadschool.co.uk/events/teenage-and-adult-half-day-mx-experiences-20th-june-mxf-henstridge/
LOCATION:The MX-FACTORY\, Henstridge\, Henstridge Marsh\, Somerset\,  BA8 0TN\, he MX-FACTORY\, Henstridge\, Henstridge Marsh\,\, Somerset\, United Kingdom
CATEGORIES:Off Road School,Off Road Tours,Upcoming Events
ATTACH;FMTTYPE=image/jpeg:https://mxfactoryoffroadschool.co.uk/wp-content/uploads/2026/04/20260406_153302-scaled.jpg
END:VEVENT
BEGIN:VEVENT
DTSTART;TZID=Europe/London:20260624T100000
DTEND;TZID=Europe/London:20260624T150000
DTSTAMP:20260425T112346
CREATED:20260424T165305Z
LAST-MODIFIED:20260424T165305Z
UID:5309-1782295200-1782313200@mxfactoryoffroadschool.co.uk
SUMMARY:Mx training for all abilities 24th June @MXF Shaftsbury
DESCRIPTION:We will be covering everything from core basic fundamentals\, braking \, cornering \, flow \, jumping \, Rhythm & bike set up. \nIdeal for all level of riders \nWe have limited adult bike hire available which includes full mx riding kit fuel and tuition. \nRiders on own bikes welcome £130 per rider \nAdult bikes available for hire £285 including full riding kit \, fuel & tuition \nHUSQVARNA TEENAGE TC85 HIRE AVAILABLE ON REQUEST \nTraining runs from 10am -3.30PM \nGet in touch with Neil for more information 07491389898
URL:https://mxfactoryoffroadschool.co.uk/events/mx-training-for-all-abilities-24th-june-mxf-shaftsbury/
LOCATION:The MX-FACTORY\, Henstridge\, Henstridge Marsh\, Somerset\,  BA8 0TN\, he MX-FACTORY\, Henstridge\, Henstridge Marsh\,\, Somerset\, United Kingdom
CATEGORIES:Off Road School,Off Road Tours,Upcoming Events
ATTACH;FMTTYPE=image/jpeg:https://mxfactoryoffroadschool.co.uk/wp-content/uploads/2026/04/20260418_143028-scaled.jpg
END:VEVENT
END:VCALENDAR